BEGIN:VCALENDAR
VERSION:2.0
PRODID:-//wp-events-plugin.com//7.2.3.1//EN
TZID:Europe/Warsaw
X-WR-TIMEZONE:Europe/Warsaw
BEGIN:VEVENT
UID:538@mustc.pm.szczecin.pl
DTSTART;TZID=Europe/Warsaw:20251027T130000
DTEND;TZID=Europe/Warsaw:20251027T160000
DTSTAMP:20250828T093924Z
URL:https://mustc.pm.szczecin.pl/en/szkolenia/gwo-wind-limited-access-offs
 hore-4/
SUMMARY:GWO WIND LIMITED ACCESS OFFSHORE
DESCRIPTION:WIND LIMITED ACCES OFFSHORE (WLA OFL)\n\nW przypadku modułu GW
 O Wind Limited Access Offshore uczestnicy szkolenia zdobywają wiedzę i u
 miejętności niezbędne do odwiedzin turbin wiatrowych zlokalizowanych na
  morzu. Szkolenie obejmuje dodatkowe moduły związane z bezpieczeństwem 
 na jednostkach pływających\, ewakuacją w warunkach morskich\, różnoro
 dnymi warunkami pogodowymi oraz procedurami ratunkowymi.\n\n&nbsp\;\n\nZAP
 ISY NA SZKOLENIE:\n\nSkontaktuj się z nami:\n\n 	tel.: +48 91 48 09 720\n
  	e-mail: mustc@pm.szczecin.pl\n\nPodając w wiadomości Twoje imię i naz
 wisko oraz nazwę szkolenia.\nLub zapisz się na szkolenie wypełniając p
 oniższy formularz:
CATEGORIES:CSO
LOCATION:Centrum Szkoleniowe Offshore MUSTC\, Willowa 2\, Szczecin\, 71-650
 \, Zachodniopomorskie\, tel. +48 914 809 408\, Poland
X-APPLE-STRUCTURED-LOCATION;VALUE=URI;X-ADDRESS=Willowa 2\, Szczecin\, 71-6
 50\, Zachodniopomorskie\, tel. +48 914 809 408\, Poland;X-APPLE-RADIUS=100
 ;X-TITLE=Centrum Szkoleniowe Offshore MUSTC:geo:0,0
END:VEVENT
BEGIN:VTIMEZONE
TZID:Europe/Warsaw
X-LIC-LOCATION:Europe/Warsaw
BEGIN:STANDARD
DTSTART:20251026T020000
TZOFFSETFROM:+0200
TZOFFSETTO:+0100
TZNAME:CET
END:STANDARD
END:VTIMEZONE
END:VCALENDAR