BEGIN:VCALENDAR
VERSION:2.0
PRODID:-//wp-events-plugin.com//7.2.3.1//EN
TZID:Europe/Warsaw
X-WR-TIMEZONE:Europe/Warsaw
BEGIN:VEVENT
UID:437@mustc.pm.szczecin.pl
DTSTART;TZID=Europe/Warsaw:20250711T090000
DTEND;TZID=Europe/Warsaw:20250713T160000
DTSTAMP:20250625T130155Z
URL:https://mustc.pm.szczecin.pl/szkolenia/stcw-hv-2/
SUMMARY:STCW HV
DESCRIPTION:ZAPISY NA SZKOLENIE:\n\nSkontaktuj się z nami:\n\n 	tel.: +48 
 91 48 09 720\n 	e-mail: osrm@pm.szczecin.pl\n\nPodając w wiadomości swoj
 e imię i nazwisko oraz nazwę szkolenia.\nLub zapisz się na szkolenie wy
 pełniając poniższy formularz:
END:VEVENT
BEGIN:VTIMEZONE
TZID:Europe/Warsaw
X-LIC-LOCATION:Europe/Warsaw
BEGIN:DAYLIGHT
DTSTART:20250330T030000
TZOFFSETFROM:+0100
TZOFFSETTO:+0200
TZNAME:CEST
END:DAYLIGHT
END:VTIMEZONE
END:VCALENDAR